BEGIN:VCALENDAR
VERSION:2.0
PRODID:-//Nemian Danza - ECPv6.15.17.1//NONSGML v1.0//EN
CALSCALE:GREGORIAN
METHOD:PUBLISH
X-WR-CALNAME:Nemian Danza
X-ORIGINAL-URL:https://nemian.lostalleres.com.mx/es_ES
X-WR-CALDESC:Eventos para Nemian Danza
REFRESH-INTERVAL;VALUE=DURATION:PT1H
X-Robots-Tag:noindex
X-PUBLISHED-TTL:PT1H
BEGIN:VTIMEZONE
TZID:America/Chicago
BEGIN:DAYLIGHT
TZOFFSETFROM:-0600
TZOFFSETTO:-0500
TZNAME:CDT
DTSTART:20210314T080000
END:DAYLIGHT
BEGIN:STANDARD
TZOFFSETFROM:-0500
TZOFFSETTO:-0600
TZNAME:CST
DTSTART:20211107T070000
END:STANDARD
BEGIN:DAYLIGHT
TZOFFSETFROM:-0600
TZOFFSETTO:-0500
TZNAME:CDT
DTSTART:20220313T080000
END:DAYLIGHT
BEGIN:STANDARD
TZOFFSETFROM:-0500
TZOFFSETTO:-0600
TZNAME:CST
DTSTART:20221106T070000
END:STANDARD
BEGIN:DAYLIGHT
TZOFFSETFROM:-0600
TZOFFSETTO:-0500
TZNAME:CDT
DTSTART:20230312T080000
END:DAYLIGHT
BEGIN:STANDARD
TZOFFSETFROM:-0500
TZOFFSETTO:-0600
TZNAME:CST
DTSTART:20231105T070000
END:STANDARD
END:VTIMEZONE
BEGIN:VEVENT
DTSTART;TZID=America/Chicago:20221106T170000
DTEND;TZID=America/Chicago:20221106T180000
DTSTAMP:20260424T111810
CREATED:20221025T020152Z
LAST-MODIFIED:20221025T020251Z
UID:3212-1667754000-1667757600@nemian.lostalleres.com.mx
SUMMARY:Creadores consolidados en la Plaza Ángel Salas del Centro Cultural del Bosque  #VIIFestivalCuerpoAlDescubierto
DESCRIPTION:#VIIFestivalCuerpoAlDescubierto \n¡Vive lo mejor de la danza contemporánea en el #VIIFestivalCuerpoAlDescubierto! 🎊 🤸 \nTe esperamos en las presentaciones que tendremos en la Plaza Ángel Salas del Centro Cultural del Bosque: \n🔶 Jóvenes artistas – 04 noviembre\n🔶 Solistas con trayectoria – 05 noviembre\n🔶 Creadores consolidados – 06 noviembre -17 hr\nAire\n2022\nSinopsis: El encuentro de la voz a través de la respiración.\nCoreógrafa y Intérprete: Isabel Beteta\nMúsica: Voz en vivo de *Isabel Beteta\nDiseño de iluminación: Gloria Minauro\nVestuario: NEMIAN\nFotografía: Gloria Minauro\nduración: 12 minutos \nFotos @brayangz \n¡Comparte y asiste! #EntradaLibre \n#SomosDanza #ViveLaDanza #cuerpofest2022 #7años #cuerpoaldescubierto #bailar #bailemos #danzacontemporanea #contemporarydance #festivales #dance #talleres #PasaLaVoz #Participa #IMPERDIBLE #ActividadesGratuitas\n#EntradaLibre\n@cuerpoaldescubierto_fest @lostalleres \n  \n#VIIFestivalCuerpoAlDescubierto
URL:https://nemian.lostalleres.com.mx/es_ES/event/creadores-consolidados-en-la-plaza-angel-salas-del-centro-cultural-del-bosque-viifestivalcuerpoaldescubierto/
CATEGORIES:Presentaciones
ATTACH;FMTTYPE=image/jpeg:https://nemian.lostalleres.com.mx/wp-content/uploads/2022/10/photo_2022-10-24-19.10.16.jpeg
END:VEVENT
END:VCALENDAR